BEGIN:VCALENDAR
VERSION:2.0
PRODID:-//www.bruegg.ch//NONSGML kigkonsult.se iCalcreator 2.22//
CALSCALE:GREGORIAN
METHOD:PUBLISH
X-WR-TIMEZONE:Europe/Berlin
BEGIN:VEVENT
UID:20260420T025412CEST-3488NncwSB@www.bruegg.ch
DTSTAMP:20260420T005412Z
DESCRIPTION:Klicken Sie auf den folgenden Link\, um weitere Informationen z
 ur Veranstaltung zu erhalten:\nhttp://www.bruegg.ch/de/veranstaltungen/det
 ail/detail.php?i=219
DTSTART:20260501T000000
DTEND:20260531T000000
LOCATION:-
SUMMARY:BASSS.bewegt / coop gemeinde duell 2026
END:VEVENT
END:VCALENDAR
